BEGIN:VCALENDAR
VERSION:2.0
PRODID:-//Накипіло Освіта - ECPv6.0.9//NONSGML v1.0//EN
CALSCALE:GREGORIAN
METHOD:PUBLISH
X-WR-CALNAME:Накипіло Освіта
X-ORIGINAL-URL:https://osvita.nakypilo.ua
X-WR-CALDESC:Events for Накипіло Освіта
REFRESH-INTERVAL;VALUE=DURATION:PT1H
X-Robots-Tag:noindex
X-PUBLISHED-TTL:PT1H
BEGIN:VTIMEZONE
TZID:Europe/Helsinki
BEGIN:DAYLIGHT
TZOFFSETFROM:+0200
TZOFFSETTO:+0300
TZNAME:EEST
DTSTART:20250330T010000
END:DAYLIGHT
BEGIN:STANDARD
TZOFFSETFROM:+0300
TZOFFSETTO:+0200
TZNAME:EET
DTSTART:20251026T010000
END:STANDARD
END:VTIMEZONE
BEGIN:VEVENT
DTSTART;TZID=Europe/Helsinki:20251010T080000
DTEND;TZID=Europe/Helsinki:20251222T170000
DTSTAMP:20260422T004050
CREATED:20251013T153318Z
LAST-MODIFIED:20251017T142535Z
UID:10914-1760083200-1766422800@osvita.nakypilo.ua
SUMMARY:Відкрито набір на безпекові кемпи
DESCRIPTION:У партнерстві з Deutsche Welle Akademie відкриваємо четвертий набір до «Школи універсальних редакторів». Це комплексний інтенсивний курс для тих\, хто хоче здобути нові інструменти для журналістської роботи\, створити власне медіа чи керувати редакцією.  Чому і як навчаємо? Навчання проходитиме з липня по грудень. Частково в онлайні\, частково в офлайні — на базі нашого центру в Івано-Франківську.  Програма складається з чотирьох модулів:  Практична журналістика — сторітелінг\, робота з фото-\, відео- та аудіоформатами\, монтаж\, воєнна журналістика.Редакція — планування контенту\, літературне редагування\, конструктивна й розслідувальна журналістика\, управління редакцією.Медіаменеджмент — грантовий менеджмент\, юридичні ризики\, ейчар-процеси й стратегічне планування.Діджитал\, аналітика\, соцмережі — цифрова безпека\, таргетована реклама\, вірусний та інтерактивний контент і мобільна журналістика.Ми щороку оновлюємо програму\, щоб вона відповідала актуальним потребам спеціалістів і ринковим трендам. А також ситуації в країні та світі — тому під час повномасштабного вторгнення додали тренінги з воєнної журналістики\, безпеки\, домедичної допомоги та психологічної підтримки медійників. Знайомтеся з програмою. На курсі будемо багато працювати\, індивідуально та в групах\, — і зовсім не будемо нудитися монотонною начиткою лекцій з пожовклих роздруківок. Для нас принципово\, щоб навчання було практичним\, тому наші тренери — медійники з крутих незалежних ЗМІ. У такі редакції\, до речі\, ми влаштуємо вас на практику наприкінці другого модуля. Також буде багато палких дискусій про журналістику та неформального спілкування — адже «Школа» не лише дає інструменти\, але й формує спільноту однодумців. Як потрапити до програми? Щоб подати заявку на участь\, заповніть реєстраційну форму. Дедлайн — 26 травня. Ми відбиратимемо учасників і учасниць від 18 років\, які вже мають досвід або знання з журналістики\, але хочуть більшого\, і чітко розуміють\, навіщо їм ця програма. Результати першого етапу оголосимо 1 червня. Другий етап відбору — онлайн-співбесіди. За результатами спілкування запропонуємо варіанти участі: можливість навчатися безоплатно\, компенсувати частину витрат або ж оплатити повністю. Не зволікайте\, відправляйте заявки та ставайте універсальними!
URL:https://osvita.nakypilo.ua/event/vidkryto-nabir-na-bezpekovi-kempy/
CATEGORIES:Усі
ATTACH;FMTTYPE=image/jpeg:https://osvita.nakypilo.ua/wp-content/uploads/2025/10/shablon-gugl-forma.jpg
END:VEVENT
END:VCALENDAR