BEGIN:VCALENDAR
VERSION:2.0
PRODID:-//Накипіло Освіта - ECPv6.0.9//NONSGML v1.0//EN
CALSCALE:GREGORIAN
METHOD:PUBLISH
X-WR-CALNAME:Накипіло Освіта
X-ORIGINAL-URL:https://osvita.nakypilo.ua
X-WR-CALDESC:Events for Накипіло Освіта
REFRESH-INTERVAL;VALUE=DURATION:PT1H
X-Robots-Tag:noindex
X-PUBLISHED-TTL:PT1H
BEGIN:VTIMEZONE
TZID:Europe/Moscow
BEGIN:STANDARD
TZOFFSETFROM:+0300
TZOFFSETTO:+0300
TZNAME:MSK
DTSTART:20230101T000000
END:STANDARD
END:VTIMEZONE
BEGIN:VEVENT
DTSTART;VALUE=DATE:20230225
DTEND;VALUE=DATE:20230227
DTSTAMP:20260422T021454
CREATED:20230129T012623Z
LAST-MODIFIED:20230501T160501Z
UID:4909-1677283200-1677455999@osvita.nakypilo.ua
SUMMARY:«Конструктив під час війни»
DESCRIPTION:«Конструктив під час війни»: Медіагрупа «Накипіло» та Академія DW запрошують на II Всеукраїнський форум журналістики рішень \nВ Україні існує кілька проєктів\, що промотують журналістику рішень та допомагають регіональним журналістам працювати якнайкраще. Ми пропонуємо згуртуватися на одному майданчику\, поговорити про спільні проблеми та виклики й надихнути один одного на плідну працю. Адже зараз українська журналістика є не лише інструментом інформування суспільства\, а й ефективною зброєю у боротьбі проти російської пропаганди.  \nГоловна мета Другого Всеукраїнського форуму журналістики рішень — об’єднати українські медіаресурси та журналістів\, що створюють матеріали у стилі конструктивної журналістики\, задля визначення\, яким може бути конструктив під час повномасштабної війни\, обміну досвідом та якісного нетворкінгу. \n \nЯкщо ви хочете взяти участь у події\, заповніть форму реєстрації.  \nМи забезпечуємо проживання та харчування\, дорога — вашим коштом.
URL:https://osvita.nakypilo.ua/event/konstruktiv-pid-chas-viyni/
LOCATION:Івано-Франківськ\, Івано-Франківськ\, 76000\, Ukraine
CATEGORIES:Усі
ATTACH;FMTTYPE=image/jpeg:https://osvita.nakypilo.ua/wp-content/uploads/2023/01/DSC_0708-1-min-e1675307323142.jpg
ORGANIZER;CN="%D0%9D%D0%B0%D0%BA%D0%B8%D0%BF%D1%96%D0%BB%D0%BE":MAILTO:nakypilo.osvita@gmail.com
END:VEVENT
END:VCALENDAR