BEGIN:VCALENDAR
VERSION:2.0
PRODID:-//Накипіло Освіта - ECPv6.0.9//NONSGML v1.0//EN
CALSCALE:GREGORIAN
METHOD:PUBLISH
X-WR-CALNAME:Накипіло Освіта
X-ORIGINAL-URL:https://osvita.nakypilo.ua
X-WR-CALDESC:Events for Накипіло Освіта
REFRESH-INTERVAL;VALUE=DURATION:PT1H
X-Robots-Tag:noindex
X-PUBLISHED-TTL:PT1H
BEGIN:VTIMEZONE
TZID:Europe/Helsinki
BEGIN:DAYLIGHT
TZOFFSETFROM:+0200
TZOFFSETTO:+0300
TZNAME:EEST
DTSTART:20230326T010000
END:DAYLIGHT
BEGIN:STANDARD
TZOFFSETFROM:+0300
TZOFFSETTO:+0200
TZNAME:EET
DTSTART:20231029T010000
END:STANDARD
END:VTIMEZONE
BEGIN:VEVENT
DTSTART;TZID=Europe/Helsinki:20231009T080000
DTEND;TZID=Europe/Helsinki:20231014T170000
DTSTAMP:20260421T075458
CREATED:20231006T155857Z
LAST-MODIFIED:20231006T164123Z
UID:7576-1696838400-1697302800@osvita.nakypilo.ua
SUMMARY:Медіакемп «Базова журналістика» 9-14 жовтня
DESCRIPTION:Освітній центр Накипіло спільно з Deutshe Welle Akademie проведе шестиденний інтенсив з основ журналістики для журналістів-початківців. Програма включає тренінги з журналістської етики\, створення вірусного контенту\, сторітелінгу та редагування текстів\, адаптації матеріалів під різні мережі\, а також блок зі створення відео. \nОрганізатори покриють проживання і харчування\, дорога — вашим коштом. \nРеєстрація за посиланням. \nПрограма:\n\nДень 1. Журналістські стандарти \nДень 2. Як писати та редагувати \nДень 3. Фактчекінг та перепакування матеріалів \nДень 4. Оперативна зйомка \nДень 5. Відеомодуль. Частина 1 \nДень 6. Відеомодуль. Частина 2
URL:https://osvita.nakypilo.ua/event/mediakemp-bazova-zhurnalistyka/
CATEGORIES:Усі
ATTACH;FMTTYPE=image/jpeg:https://osvita.nakypilo.ua/wp-content/uploads/2023/10/Videolaboratoriya-22-24-veresnya-17.jpg
END:VEVENT
END:VCALENDAR