BEGIN:VCALENDAR
VERSION:2.0
PRODID:-//Накипіло Освіта - ECPv6.0.9//NONSGML v1.0//EN
CALSCALE:GREGORIAN
METHOD:PUBLISH
X-ORIGINAL-URL:https://osvita.nakypilo.ua
X-WR-CALDESC:Events for Накипіло Освіта
REFRESH-INTERVAL;VALUE=DURATION:PT1H
X-Robots-Tag:noindex
X-PUBLISHED-TTL:PT1H
BEGIN:VTIMEZONE
TZID:Europe/Moscow
BEGIN:STANDARD
TZOFFSETFROM:+0300
TZOFFSETTO:+0300
TZNAME:MSK
DTSTART:20230101T000000
END:STANDARD
END:VTIMEZONE
BEGIN:VEVENT
DTSTART;VALUE=DATE:20230501
DTEND;VALUE=DATE:20230602
DTSTAMP:20260421T210716
CREATED:20230501T091658Z
LAST-MODIFIED:20230501T160533Z
UID:6695-1682899200-1685663999@osvita.nakypilo.ua
SUMMARY:Набір на Школу Універсальних Редакторів 2023
DESCRIPTION:У партнерстві з Deutsche Welle Akademie відкриваємо четвертий набір до «Школи універсальних редакторів». Це комплексний інтенсивний курс для тих\, хто хоче здобути нові інструменти для журналістської роботи\, створити власне медіа чи керувати редакцією. \nЧому і як навчаємо? \nНавчання проходитиме з липня по грудень. Частково в онлайні\, частково в офлайні — на базі нашого центру в Івано-Франківську. \nПрограма складається з чотирьох модулів: \n\nПрактична журналістика — сторітелінг\, робота з фото-\, відео- та аудіоформатами\, монтаж\, воєнна журналістика.\nРедакція — планування контенту\, літературне редагування\, конструктивна й розслідувальна журналістика\, управління редакцією.\nМедіаменеджмент — грантовий менеджмент\, юридичні ризики\, ейчар-процеси й стратегічне планування.\nДіджитал\, аналітика\, соцмережі — цифрова безпека\, таргетована реклама\, вірусний та інтерактивний контент і мобільна журналістика.\n\nМи щороку оновлюємо програму\, щоб вона відповідала актуальним потребам спеціалістів і ринковим трендам. А також ситуації в країні та світі — тому під час повномасштабного вторгнення додали тренінги з воєнної журналістики\, безпеки\, домедичної допомоги та психологічної підтримки медійників. \nЗнайомтеся з  \nНа курсі будемо багато працювати\, індивідуально та в групах\, — і зовсім не будемо нудитися монотонною начиткою лекцій з пожовклих роздруківок. Для нас принципово\, щоб навчання було практичним\, тому наші тренери — медійники з крутих незалежних ЗМІ. У такі редакції\, до речі\, ми влаштуємо вас на практику наприкінці другого модуля. \nТакож буде багато палких дискусій про журналістику та неформального спілкування — адже «Школа» не лише дає інструменти\, але й формує спільноту однодумців. \nЯк потрапити до програми? \nЩоб подати заявку на участь\, заповніть реєстраційну форму. \nДедлайн — 26 травня. Ми відбиратимемо учасників і учасниць від 18 років\, які вже мають досвід або знання з журналістики\, але хочуть більшого\, і чітко розуміють\, навіщо їм ця програма. \nРезультати першого етапу оголосимо 1 червня. Другий етап відбору — онлайн-співбесіди. За результатами спілкування запропонуємо варіанти участі: можливість навчатися безоплатно\, компенсувати частину витрат або ж оплатити повністю. \nНе зволікайте\, відправляйте заявки та ставайте універсальними!
URL:https://osvita.nakypilo.ua/event/nabir-na-shkolu-universalnyh-redaktoriv-2023/
LOCATION:Івано-Франківськ\, Івано-Франківськ\, 76000\, Ukraine
CATEGORIES:Усі
ATTACH;FMTTYPE=image/jpeg:https://osvita.nakypilo.ua/wp-content/uploads/2023/05/shyr-2023.jpg
ORGANIZER;CN="%D0%9D%D0%B0%D0%BA%D0%B8%D0%BF%D1%96%D0%BB%D0%BE":MAILTO:nakypilo.osvita@gmail.com
END:VEVENT
END:VCALENDAR